BEGIN:VCALENDAR
VERSION:2.0
PRODID:-//eventon.com NONSGML v1.0//EN
BEGIN:VEVENT
UID:69e4d1b85f158
DTSTAMP:20260419T095936
DTSTART:20230607T135100Z
DTEND:20230607T135100Z
TZID:America/Sao_Paulo
LOCATION:
SUMMARY:Maracaju / MS
DESCRIPTION: Maracaju / MS\nhttps://paranaoficial.com.br/events/maracaju-ms/
URL:https://paranaoficial.com.br/events/maracaju-ms/
END:VEVENT
END:VCALENDAR