BEGIN:VCALENDAR
VERSION:2.0
PRODID:-//eventon.com NONSGML v1.0//EN
BEGIN:VEVENT
UID:69e4cea1124b8
DTSTAMP:20260419T094625
DTSTART:20231114T160300Z
DTEND:20231114T160300Z
TZID:America/Sao_Paulo
LOCATION:
SUMMARY:Joviânia / GO
DESCRIPTION: Aniversário da Cidade &#8211; 65 Anos\nhttps://paranaoficial.com.br/events/joviania-go/
URL:https://paranaoficial.com.br/events/joviania-go/
END:VEVENT
END:VCALENDAR