BEGIN:VCALENDAR
VERSION:2.0
PRODID:-//eventon.com NONSGML v1.0//EN
BEGIN:VEVENT
UID:69e4cfc3e0fe5
DTSTAMP:20260419T095115
DTSTART:20240712T160300Z
DTEND:20240712T160300Z
TZID:America/Sao_Paulo
LOCATION:
SUMMARY:Itacajá / TO
DESCRIPTION: Show Cantor Paraná\nhttps://paranaoficial.com.br/events/itacaja-to/
URL:https://paranaoficial.com.br/events/itacaja-to/
END:VEVENT
END:VCALENDAR