BEGIN:VCALENDAR
VERSION:2.0
PRODID:-//eventon.com NONSGML v1.0//EN
BEGIN:VEVENT
UID:69e4d12e07d38
DTSTAMP:20260419T095718
DTSTART:20260321T094400Z
DTEND:20260321T094400Z
TZID:America/Sao_Paulo
LOCATION:
SUMMARY:Pindorama / SP
DESCRIPTION: Show do Cantor Paraná\nhttps://paranaoficial.com.br/events/pindorama-sp/
URL:https://paranaoficial.com.br/events/pindorama-sp/
END:VEVENT
END:VCALENDAR